BEGIN:VCALENDAR
VERSION:2.0
PRODID:-//Ecole Club Black Cat - ECPv6.9.1//NONSGML v1.0//EN
CALSCALE:GREGORIAN
METHOD:PUBLISH
X-ORIGINAL-URL:https://ecoleclubblackcat.fr
X-WR-CALDESC:Évènements pour Ecole Club Black Cat
REFRESH-INTERVAL;VALUE=DURATION:PT1H
X-Robots-Tag:noindex
X-PUBLISHED-TTL:PT1H
BEGIN:VTIMEZONE
TZID:Europe/Paris
BEGIN:DAYLIGHT
TZOFFSETFROM:+0100
TZOFFSETTO:+0200
TZNAME:CEST
DTSTART:20240331T010000
END:DAYLIGHT
BEGIN:STANDARD
TZOFFSETFROM:+0200
TZOFFSETTO:+0100
TZNAME:CET
DTSTART:20241027T010000
END:STANDARD
END:VTIMEZONE
BEGIN:VEVENT
DTSTART;TZID=Europe/Paris:20241130T000000
DTEND;TZID=Europe/Paris:20241130T235900
DTSTAMP:20260423T010937
CREATED:20241018T075117Z
LAST-MODIFIED:20241018T080423Z
UID:4493-1732924800-1733011140@ecoleclubblackcat.fr
SUMMARY:Doublette Honneur Phase 1
DESCRIPTION:Doublette Honneur Phase 1\nLieu à définir
URL:https://ecoleclubblackcat.fr/competitions/doublette-honneur-phase-1/
END:VEVENT
BEGIN:VEVENT
DTSTART;TZID=Europe/Paris:20241130T080000
DTEND;TZID=Europe/Paris:20241130T170000
DTSTAMP:20260423T010937
CREATED:20241018T075003Z
LAST-MODIFIED:20241018T075003Z
UID:4491-1732953600-1732986000@ecoleclubblackcat.fr
SUMMARY:Doublette Excellence Phase 1
DESCRIPTION:Doublette Excellence Phase 1\nParc OL\n9h à 13h30
URL:https://ecoleclubblackcat.fr/competitions/doublette-excellence-phase-1/
LOCATION:Parc OL\, 2 Av. Simone Veil\, Décines-Charpieu\, 69150\, France
END:VEVENT
END:VCALENDAR