BEGIN:VCALENDAR
VERSION:2.0
PRODID:-//Ecole Club Black Cat - ECPv6.9.1//NONSGML v1.0//EN
CALSCALE:GREGORIAN
METHOD:PUBLISH
X-WR-CALNAME:Ecole Club Black Cat
X-ORIGINAL-URL:https://ecoleclubblackcat.fr
X-WR-CALDESC:Évènements pour Ecole Club Black Cat
REFRESH-INTERVAL;VALUE=DURATION:PT1H
X-Robots-Tag:noindex
X-PUBLISHED-TTL:PT1H
BEGIN:VTIMEZONE
TZID:Europe/Paris
BEGIN:DAYLIGHT
TZOFFSETFROM:+0100
TZOFFSETTO:+0200
TZNAME:CEST
DTSTART:20240331T010000
END:DAYLIGHT
BEGIN:STANDARD
TZOFFSETFROM:+0200
TZOFFSETTO:+0100
TZNAME:CET
DTSTART:20241027T010000
END:STANDARD
END:VTIMEZONE
BEGIN:VEVENT
DTSTART;TZID=Europe/Paris:20241214T090000
DTEND;TZID=Europe/Paris:20241214T133000
DTSTAMP:20260423T010932
CREATED:20241018T075618Z
LAST-MODIFIED:20241018T080403Z
UID:4495-1734166800-1734183000@ecoleclubblackcat.fr
SUMMARY:Championnat Double Mixte Phase 2
DESCRIPTION:Championnat Double Mixte Phase 2\n14/12/2024\nSeven Square (St Etienne)\n9h à 13h30
URL:https://ecoleclubblackcat.fr/competitions/championnat-double-mixte-phase-2/
LOCATION:Seven Squares (St Etienne)\, 2 Rue Ferrer\, Saint-Étienne\, 42000\, France
END:VEVENT
END:VCALENDAR