BEGIN:VCALENDAR
VERSION:2.0
PRODID:-//Ecole Club Black Cat - ECPv6.9.1//NONSGML v1.0//EN
CALSCALE:GREGORIAN
METHOD:PUBLISH
X-ORIGINAL-URL:https://ecoleclubblackcat.fr
X-WR-CALDESC:Évènements pour Ecole Club Black Cat
REFRESH-INTERVAL;VALUE=DURATION:PT1H
X-Robots-Tag:noindex
X-PUBLISHED-TTL:PT1H
BEGIN:VTIMEZONE
TZID:Europe/Paris
BEGIN:DAYLIGHT
TZOFFSETFROM:+0100
TZOFFSETTO:+0200
TZNAME:CEST
DTSTART:20240331T010000
END:DAYLIGHT
BEGIN:STANDARD
TZOFFSETFROM:+0200
TZOFFSETTO:+0100
TZNAME:CET
DTSTART:20241027T010000
END:STANDARD
END:VTIMEZONE
BEGIN:VEVENT
DTSTART;TZID=Europe/Paris:20241006T080000
DTEND;TZID=Europe/Paris:20241006T173000
DTSTAMP:20260423T030016
CREATED:20241001T085035Z
LAST-MODIFIED:20241001T093313Z
UID:4442-1728201600-1728235800@ecoleclubblackcat.fr
SUMMARY:Challenge Centre-Est
DESCRIPTION:Division 1 : Chambéry\n8 H à 12 H et 13 H à 16 H 8 H à 12 H \nDivision 2 : Civrieux\n8 H 30 à 12 H 30 et 1 3 H 45 à 16 H 45 \nDivision 3 : Saint Paul-3-Châteaux\n9 H à 13 H et 14 H 30 à 17 H 30 \nDivision 4 EST et OUEST : BBL (Bourg-en-Bresse)\n8 H 30 à 13 H 30
URL:https://ecoleclubblackcat.fr/competitions/challenge-centre-est/
LOCATION:Ibowling\, Rue de la Françon\, voglans\, 73420\, France
END:VEVENT
BEGIN:VEVENT
DTSTART;TZID=Europe/Paris:20241013T080000
DTEND;TZID=Europe/Paris:20241013T170000
DTSTAMP:20260423T030016
CREATED:20241001T085806Z
LAST-MODIFIED:20241001T085806Z
UID:4446-1728806400-1728838800@ecoleclubblackcat.fr
SUMMARY:Championnat des clubs Promotion
DESCRIPTION:District Auvergne\nJournée 1
URL:https://ecoleclubblackcat.fr/competitions/championnat-des-clubs-promotion/
END:VEVENT
BEGIN:VEVENT
DTSTART;TZID=Europe/Paris:20241013T083000
DTEND;TZID=Europe/Paris:20241013T133000
DTSTAMP:20260423T030016
CREATED:20241001T090021Z
LAST-MODIFIED:20241001T090021Z
UID:4448-1728808200-1728826200@ecoleclubblackcat.fr
SUMMARY:Championnat des clubs Promotion
DESCRIPTION:District Rhône-Alpes\nJournée 1
URL:https://ecoleclubblackcat.fr/competitions/championnat-des-clubs-promotion-2/
LOCATION:Seven Squares (St Etienne)\, 2 Rue Ferrer\, Saint-Étienne\, 42000\, France
END:VEVENT
BEGIN:VEVENT
DTSTART;TZID=Europe/Paris:20241027T080000
DTEND;TZID=Europe/Paris:20241027T170000
DTSTAMP:20260423T030016
CREATED:20241001T093605Z
LAST-MODIFIED:20241001T094027Z
UID:4464-1730016000-1730048400@ecoleclubblackcat.fr
SUMMARY:Championnat Double Mixte Phase 1
DESCRIPTION:District Auvergne
URL:https://ecoleclubblackcat.fr/competitions/championnat-double-mixte-phase-1/
LOCATION:CUSSET\, 4 Rue Ampère\, Cusset\, 03300\, France
END:VEVENT
END:VCALENDAR