BEGIN:VCALENDAR
VERSION:2.0
PRODID:-//Ecole Club Black Cat - ECPv6.9.1//NONSGML v1.0//EN
CALSCALE:GREGORIAN
METHOD:PUBLISH
X-WR-CALNAME:Ecole Club Black Cat
X-ORIGINAL-URL:https://ecoleclubblackcat.fr
X-WR-CALDESC:Évènements pour Ecole Club Black Cat
REFRESH-INTERVAL;VALUE=DURATION:PT1H
X-Robots-Tag:noindex
X-PUBLISHED-TTL:PT1H
BEGIN:VTIMEZONE
TZID:Europe/Paris
BEGIN:DAYLIGHT
TZOFFSETFROM:+0100
TZOFFSETTO:+0200
TZNAME:CEST
DTSTART:20240331T010000
END:DAYLIGHT
BEGIN:STANDARD
TZOFFSETFROM:+0200
TZOFFSETTO:+0100
TZNAME:CET
DTSTART:20241027T010000
END:STANDARD
END:VTIMEZONE
BEGIN:VEVENT
DTSTART;TZID=Europe/Paris:20241103T080000
DTEND;TZID=Europe/Paris:20241103T160000
DTSTAMP:20260423T010932
CREATED:20241018T073452Z
LAST-MODIFIED:20241018T073514Z
UID:4472-1730620800-1730649600@ecoleclubblackcat.fr
SUMMARY:Challenge Aline CAILLE
DESCRIPTION:Régionale \n8 H à 12 H et 13 H à 16 H
URL:https://ecoleclubblackcat.fr/competitions/challenge-aline-caille/
LOCATION:Ibowling\, Rue de la Françon\, voglans\, 73420\, France
END:VEVENT
BEGIN:VEVENT
DTSTART;TZID=Europe/Paris:20241110T080000
DTEND;TZID=Europe/Paris:20241110T130000
DTSTAMP:20260423T010932
CREATED:20241018T074353Z
LAST-MODIFIED:20241018T074353Z
UID:4481-1731225600-1731243600@ecoleclubblackcat.fr
SUMMARY:Championnat des clubs J1 R3 Homme EST - OUEST
DESCRIPTION:Championnat des clubs J1 R3 Homme\n10/11/2024\nSeven Square (St Etienne)\n8 H 30 à 13 H 30
URL:https://ecoleclubblackcat.fr/competitions/championnat-des-clubs-j1-r3-homme-est-ouest/
LOCATION:Seven Squares (St Etienne)\, 2 Rue Ferrer\, Saint-Étienne\, 42000\, France
END:VEVENT
BEGIN:VEVENT
DTSTART;TZID=Europe/Paris:20241110T083000
DTEND;TZID=Europe/Paris:20241110T163000
DTSTAMP:20260423T010932
CREATED:20241018T073841Z
LAST-MODIFIED:20241018T074105Z
UID:4474-1731227400-1731256200@ecoleclubblackcat.fr
SUMMARY:Championnat des clubs J1 R1 Homme
DESCRIPTION:Championnat des clubs journée 1 homme\n10/11/24\nBBL (BOURG-en-BRESSE)\n8 H 30 à 12 H 30 et 1 3 H 45 à 16 H 45
URL:https://ecoleclubblackcat.fr/competitions/championnat-des-clubs-j1-homme/
LOCATION:BBL (Bourg en Bresse)\, 1880 Av. de Trévoux\, Saint-Denis-lès-Bourg\, 01000\, France
END:VEVENT
BEGIN:VEVENT
DTSTART;TZID=Europe/Paris:20241110T083000
DTEND;TZID=Europe/Paris:20241110T163000
DTSTAMP:20260423T010932
CREATED:20241018T074050Z
LAST-MODIFIED:20241018T074050Z
UID:4477-1731227400-1731256200@ecoleclubblackcat.fr
SUMMARY:Championnat des clubs J1 R2 Homme
DESCRIPTION:Championnat des clubs J1 R2 Homme\n10/11/2024\nCivrieux\n8 H 30 à 12 H 30 et 1 3 H 45 à 16 H 45
URL:https://ecoleclubblackcat.fr/competitions/championnat-des-clubs-j1-r2-homme/
LOCATION:IBowl Civrieux\, ZA du Pontet\, Chem. du Chêne\, Civrieux-d'Azergues\, 69380\, France
END:VEVENT
BEGIN:VEVENT
DTSTART;TZID=Europe/Paris:20241110T090000
DTEND;TZID=Europe/Paris:20241110T133000
DTSTAMP:20260423T010932
CREATED:20241018T074644Z
LAST-MODIFIED:20241018T074644Z
UID:4484-1731229200-1731245400@ecoleclubblackcat.fr
SUMMARY:Championnat des clubs J1 R1 Dames
DESCRIPTION:Championnat des clubs J1 R1 Dames\n10/11/2024\nParc OL\n9 H 00 à 13 H 30
URL:https://ecoleclubblackcat.fr/competitions/championnat-des-clubs-j1-r1-dames/
LOCATION:Parc OL\, 2 Av. Simone Veil\, Décines-Charpieu\, 69150\, France
END:VEVENT
BEGIN:VEVENT
DTSTART;TZID=Europe/Paris:20241124T000000
DTEND;TZID=Europe/Paris:20241124T235900
DTSTAMP:20260423T010932
CREATED:20241018T074807Z
LAST-MODIFIED:20241018T080523Z
UID:4487-1732406400-1732492740@ecoleclubblackcat.fr
SUMMARY:Doublettes Mixtes SE
DESCRIPTION:Doublettes Mixtes SE\n24/11/2024
URL:https://ecoleclubblackcat.fr/competitions/doublettes-mixtes-se/
END:VEVENT
BEGIN:VEVENT
DTSTART;TZID=Europe/Paris:20241124T000000
DTEND;TZID=Europe/Paris:20241124T235900
DTSTAMP:20260423T010932
CREATED:20241018T074832Z
LAST-MODIFIED:20241018T080541Z
UID:4489-1732406400-1732492740@ecoleclubblackcat.fr
SUMMARY:Quadrettes SE
DESCRIPTION:Quadrettes SE\n24/11/2024
URL:https://ecoleclubblackcat.fr/competitions/quadrettes-se/
END:VEVENT
BEGIN:VEVENT
DTSTART;TZID=Europe/Paris:20241130T000000
DTEND;TZID=Europe/Paris:20241130T235900
DTSTAMP:20260423T010932
CREATED:20241018T075117Z
LAST-MODIFIED:20241018T080423Z
UID:4493-1732924800-1733011140@ecoleclubblackcat.fr
SUMMARY:Doublette Honneur Phase 1
DESCRIPTION:Doublette Honneur Phase 1\nLieu à définir
URL:https://ecoleclubblackcat.fr/competitions/doublette-honneur-phase-1/
END:VEVENT
BEGIN:VEVENT
DTSTART;TZID=Europe/Paris:20241130T080000
DTEND;TZID=Europe/Paris:20241130T170000
DTSTAMP:20260423T010932
CREATED:20241018T075003Z
LAST-MODIFIED:20241018T075003Z
UID:4491-1732953600-1732986000@ecoleclubblackcat.fr
SUMMARY:Doublette Excellence Phase 1
DESCRIPTION:Doublette Excellence Phase 1\nParc OL\n9h à 13h30
URL:https://ecoleclubblackcat.fr/competitions/doublette-excellence-phase-1/
LOCATION:Parc OL\, 2 Av. Simone Veil\, Décines-Charpieu\, 69150\, France
END:VEVENT
END:VCALENDAR